BEGIN:VCALENDAR
VERSION:2.0
PRODID:-//lickingswcd.com//NONSGML kigkonsult.se iCalcreator 2.30.10//
CALSCALE:GREGORIAN
METHOD:PUBLISH
UID:d57249a3-2637-4539-bcfe-92a1e209a245
X-WR-CALDESC:
X-WR-RELCALID:359addf149625ba0bf4ac350e1c4365f
X-WR-TIMEZONE:America/New_York
BEGIN:VTIMEZONE
TZID:America/New_York
BEGIN:STANDARD
TZNAME:EST
DTSTART:20191103T020000
TZOFFSETFROM:-0400
TZOFFSETTO:-0500
RDATE:20201101T020000
RDATE:20211107T020000
END:STANDARD
BEGIN:DAYLIGHT
TZNAME:EDT
DTSTART:20200308T020000
TZOFFSETFROM:-0500
TZOFFSETTO:-0400
RDATE:20210314T020000
END:DAYLIGHT
END:VTIMEZONE
BEGIN:VEVENT
UID:8919a7a6-6767-4734-b9c7-85b67cb83d19
DTSTAMP:20260424T010300Z
DESCRIPTION:
DTSTART;TZID=America/New_York:20200703T000000
DTEND;TZID=America/New_York:20200703T235900
LOCATION:
SUMMARY:Office closed to observe Independence Day
END:VEVENT
END:VCALENDAR
