BEGIN:VCALENDAR
VERSION:2.0
PRODID:-//lickingswcd.com//NONSGML kigkonsult.se iCalcreator 2.30.10//
CALSCALE:GREGORIAN
METHOD:PUBLISH
UID:aadd5611-7e55-4eaa-a84b-32e376436155
X-WR-CALDESC:Nominations Opened June 15 for the 2020 County Committee Elect
 ions for the Farm Service Agence\nJune192020\nThe U.S. Department of Agric
 ulture (USDA) Farm Service Agency (FSA) encourages all farmers and FSA pro
 gram participants to take part in the Licking County Committee election no
 mination process.\n\nFSA’s county committees are a critical component of t
 he day-to-day operations of FSA and allow grassroots input and local admin
 istration of federal farm programs.\n\nCommittees are comprised of locally
  elected agricultural producers responsible for the fair and equitable adm
 inistration of FSA farm programs in their counties. Committee members are 
 accountable to the Secretary of Agriculture. If elected\, members become p
 art of a local decision making and farm program delivery process.\n\nA cou
 nty committee is composed of three to 11 elected members from local admini
 strative areas (LAA). Each member serves a three-year term. One-third of t
 he seats on these committees are open for election each year.\n\nCounty co
 mmittees may have an appointed advisor to further represent the local inte
 rests of underserved farmers. Underserved producers are beginning\, women 
 and other minority farmers and landowners and/or operators who have limite
 d resources.\n\nAll nomination forms for the 2020 election must be postmar
 ked or received in the local USDA service center by Aug. 3\, 2020. For mor
 e information on FSA county committee elections and appointments\, refer t
 o the FSA fact sheet: Eligibility to Vote and Hold Office as a COC Member 
 available online at: fsa.usda.gov/elections.
X-WR-RELCALID:565be9878ecb64b27a5ec5aef9bcf224
X-WR-TIMEZONE:America/New_York
BEGIN:VTIMEZONE
TZID:America/New_York
BEGIN:STANDARD
TZNAME:EST
DTSTART:20191103T020000
TZOFFSETFROM:-0400
TZOFFSETTO:-0500
RDATE:20201101T020000
RDATE:20211107T020000
END:STANDARD
BEGIN:DAYLIGHT
TZNAME:EDT
DTSTART:20200308T020000
TZOFFSETFROM:-0500
TZOFFSETTO:-0400
RDATE:20210314T020000
END:DAYLIGHT
END:VTIMEZONE
BEGIN:VEVENT
UID:93e8f9de-16d9-4687-98bf-73b9bc8d8636
DTSTAMP:20260424T024626Z
DESCRIPTION:Nominations Opened June 15 for the 2020 County Committee Electi
 ons for the Farm Service Agence\nJune192020\nThe U.S. Department of Agricu
 lture (USDA) Farm Service Agency (FSA) encourages all farmers and FSA prog
 ram participants to take part in the Licking County Committee election nom
 ination process.\n\nFSA’s county committees are a critical component of th
 e day-to-day operations of FSA and allow grassroots input and local admini
 stration of federal farm programs.\n\nCommittees are comprised of locally 
 elected agricultural producers responsible for the fair and equitable admi
 nistration of FSA farm programs in their counties. Committee members are a
 ccountable to the Secretary of Agriculture. If elected\, members become pa
 rt of a local decision making and farm program delivery process.\n\nA coun
 ty committee is composed of three to 11 elected members from local adminis
 trative areas (LAA). Each member serves a three-year term. One-third of th
 e seats on these committees are open for election each year.\n\nCounty com
 mittees may have an appointed advisor to further represent the local inter
 ests of underserved farmers. Underserved producers are beginning\, women a
 nd other minority farmers and landowners and/or operators who have limited
  resources.\n\nAll nomination forms for the 2020 election must be postmark
 ed or received in the local USDA service center by Aug. 3\, 2020. For more
  information on FSA county committee elections and appointments\, refer to
  the FSA fact sheet: Eligibility to Vote and Hold Office as a COC Member a
 vailable online at: fsa.usda.gov/elections.
DTSTART;TZID=America/New_York:20200803T123000
DTEND;TZID=America/New_York:20200803T133000
LOCATION:
SUMMARY:FSA County Committee Candidates Due
END:VEVENT
END:VCALENDAR
