BEGIN:VCALENDAR
VERSION:2.0
PRODID:-//lickingswcd.com//NONSGML kigkonsult.se iCalcreator 2.30.10//
CALSCALE:GREGORIAN
METHOD:PUBLISH
UID:e144bc1d-36c6-4b14-99bd-893151b04ceb
X-WR-CALDESC:Visit\, relax\, and enjoy the Hartford Fair Natural Resources 
 Area located next to the beef barn.  Enjoy the pond\, stream\, and beautif
 ul gardens while learning about our natural resources.  Check out https://
 www.facebook.com/naturalresourcesareaatthehartfordfair for daily updates.
X-WR-RELCALID:ae9d6331409ed2a28f1c7b8726277097
X-WR-TIMEZONE:America/New_York
BEGIN:VTIMEZONE
TZID:America/New_York
BEGIN:STANDARD
TZNAME:EST
DTSTART:20191103T020000
TZOFFSETFROM:-0400
TZOFFSETTO:-0500
RDATE:20201101T020000
RDATE:20211107T020000
END:STANDARD
BEGIN:DAYLIGHT
TZNAME:EDT
DTSTART:20200308T020000
TZOFFSETFROM:-0500
TZOFFSETTO:-0400
RDATE:20210314T020000
END:DAYLIGHT
END:VTIMEZONE
BEGIN:VEVENT
UID:1a32ee44-e736-4737-b615-8f34978b78b3
DTSTAMP:20260424T025318Z
DESCRIPTION:Visit\, relax\, and enjoy the Hartford Fair Natural Resources A
 rea located next to the beef barn.  Enjoy the pond\, stream\, and beautifu
 l gardens while learning about our natural resources.  Check out https://w
 ww.facebook.com/naturalresourcesareaatthehartfordfair for daily updates.
DTSTART;TZID=America/New_York:20200809T120000
DTEND;TZID=America/New_York:20200814T130000
LOCATION:Hartford Fairgrounds\, 14028 Fairgrounds Rd\, Hartford\, OH 43013
SUMMARY:@ Hartford Fair Natrual Resources Area
END:VEVENT
END:VCALENDAR
