BEGIN:VCALENDAR
VERSION:2.0
PRODID:-//lickingswcd.com//NONSGML kigkonsult.se iCalcreator 2.30.10//
CALSCALE:GREGORIAN
METHOD:PUBLISH
UID:4357b2a6-68bb-435a-898b-6e50ae147aaa
X-WR-CALDESC:
X-WR-RELCALID:1aef10e4a4da7790c6342d57755b2f43
X-WR-TIMEZONE:America/New_York
BEGIN:VTIMEZONE
TZID:America/New_York
BEGIN:STANDARD
TZNAME:EST
DTSTART:20191103T020000
TZOFFSETFROM:-0400
TZOFFSETTO:-0500
RDATE:20201101T020000
RDATE:20211107T020000
END:STANDARD
BEGIN:DAYLIGHT
TZNAME:EDT
DTSTART:20200308T020000
TZOFFSETFROM:-0500
TZOFFSETTO:-0400
RDATE:20210314T020000
END:DAYLIGHT
END:VTIMEZONE
BEGIN:VEVENT
UID:9845d854-eb0c-4b05-a7ad-360f230e984b
DTSTAMP:20260424T024922Z
DESCRIPTION:
DTSTART;TZID=America/New_York:20200810T180000
DTEND;TZID=America/New_York:20200810T190000
LOCATION:Village of Hebron Municipal Complex\, 934 West Main Street\, Hebro
 n\, OH
SUMMARY:South Licking Conservancy District
END:VEVENT
END:VCALENDAR
