BEGIN:VCALENDAR
VERSION:2.0
PRODID:-//lickingswcd.com//NONSGML kigkonsult.se iCalcreator 2.30.10//
CALSCALE:GREGORIAN
METHOD:PUBLISH
UID:e2237fe6-6991-4db6-b6d7-f30b8fddbb87
X-WR-CALDESC:Licking County River Round Up is a volunteer-driven\, county-w
 ide\, annual clean up event in the Licking River Watershed\, Licking Count
 y\, Ohio.
X-WR-RELCALID:c359ff91b677549cf9382fb1d405ce14
X-WR-TIMEZONE:America/New_York
BEGIN:VTIMEZONE
TZID:America/New_York
BEGIN:STANDARD
TZNAME:EST
DTSTART:20191103T020000
TZOFFSETFROM:-0400
TZOFFSETTO:-0500
RDATE:20201101T020000
RDATE:20211107T020000
END:STANDARD
BEGIN:DAYLIGHT
TZNAME:EDT
DTSTART:20200308T020000
TZOFFSETFROM:-0500
TZOFFSETTO:-0400
RDATE:20210314T020000
RDATE:20220313T020000
END:DAYLIGHT
END:VTIMEZONE
BEGIN:VEVENT
UID:ad9e9feb-5cf1-4570-a0e5-e8a0eafaf7d0
DTSTAMP:20260424T041636Z
DESCRIPTION:Licking County River Round Up is a volunteer-driven\, county-wi
 de\, annual clean up event in the Licking River Watershed\, Licking County
 \, Ohio.
DTSTART;TZID=America/New_York:20200912T080000
DTEND;TZID=America/New_York:20200912T120000
LOCATION:Various Locations
SUMMARY:Licking County River Round Up
END:VEVENT
END:VCALENDAR
