BEGIN:VCALENDAR
VERSION:2.0
PRODID:-//lickingswcd.com//NONSGML kigkonsult.se iCalcreator 2.30.10//
CALSCALE:GREGORIAN
METHOD:PUBLISH
UID:73a183c2-59aa-4d88-9e49-b9e204a90e69
X-WR-CALDESC:The Board will meet in person for the Special Board Meeting.  
 The public that would like to attend can contact Kristy Hawthorne for a zo
 om link.
X-WR-RELCALID:359f0320db68d15c56cb5f0df82ffb73
X-WR-TIMEZONE:America/New_York
BEGIN:VTIMEZONE
TZID:America/New_York
BEGIN:STANDARD
TZNAME:EST
DTSTART:20191103T020000
TZOFFSETFROM:-0400
TZOFFSETTO:-0500
RDATE:20201101T020000
RDATE:20211107T020000
END:STANDARD
BEGIN:DAYLIGHT
TZNAME:EDT
DTSTART:20200308T020000
TZOFFSETFROM:-0500
TZOFFSETTO:-0400
RDATE:20210314T020000
RDATE:20220313T020000
END:DAYLIGHT
END:VTIMEZONE
BEGIN:VEVENT
UID:3eec5fb0-37d9-4e17-918a-59ab3fc54515
DTSTAMP:20260424T063109Z
DESCRIPTION:The Board will meet in person for the Special Board Meeting.  T
 he public that would like to attend can contact Kristy Hawthorne for a zoo
 m link.
DTSTART;TZID=America/New_York:20201007T120000
DTEND;TZID=America/New_York:20201007T130000
LOCATION:Ag Center\, 771 East Main Street\, Newark\, OH  43055
SUMMARY:Soil & Water Special Board meeting
END:VEVENT
END:VCALENDAR
