BEGIN:VCALENDAR
VERSION:2.0
PRODID:-//lickingswcd.com//NONSGML kigkonsult.se iCalcreator 2.30.10//
CALSCALE:GREGORIAN
METHOD:PUBLISH
UID:0fccebd9-3ce8-4c74-a295-30188e75d0ea
X-WR-CALDESC:World Soils Day is a worldwide celebration of soil as a natura
 l resource and a day for advocation and recognition of soil sustainability
 . The International Union of Soil Sciences first recommended in 2002 that 
 an international day to celebrate soil be created. Afterwards\, in Decembe
 r 2013 the United Nations designated December 5 as World Soil Day.\n\nThis
  year the theme of World Soil Day is “Keep soil alive\, protect soil biodi
 versity”. This theme is meant to promote the benefits of\, raise awareness
 \, and address novel research being conducted on soil biodiversity.\n
X-WR-RELCALID:81961c71154f246bcf26862b74c83cd3
X-WR-TIMEZONE:America/New_York
BEGIN:VTIMEZONE
TZID:America/New_York
BEGIN:STANDARD
TZNAME:EST
DTSTART:20201101T020000
TZOFFSETFROM:-0400
TZOFFSETTO:-0500
RDATE:20211107T020000
END:STANDARD
BEGIN:DAYLIGHT
TZNAME:EDT
DTSTART:20200308T020000
TZOFFSETFROM:-0500
TZOFFSETTO:-0400
RDATE:20210314T020000
RDATE:20220313T020000
END:DAYLIGHT
END:VTIMEZONE
BEGIN:VEVENT
UID:630209b8-104b-4988-957c-f916df5fd096
DTSTAMP:20260424T095332Z
DESCRIPTION:World Soils Day is a worldwide celebration of soil as a natural
  resource and a day for advocation and recognition of soil sustainability.
  The International Union of Soil Sciences first recommended in 2002 that a
 n international day to celebrate soil be created. Afterwards\, in December
  2013 the United Nations designated December 5 as World Soil Day.\n\nThis 
 year the theme of World Soil Day is “Keep soil alive\, protect soil biodiv
 ersity”. This theme is meant to promote the benefits of\, raise awareness\
 , and address novel research being conducted on soil biodiversity.\n
DTSTART;TZID=America/New_York:20201205T000000
DTEND;TZID=America/New_York:20201205T235900
LOCATION:Everywhere!
SUMMARY:World Soil Day
END:VEVENT
END:VCALENDAR
