BEGIN:VCALENDAR
VERSION:2.0
PRODID:-//lickingswcd.com//NONSGML kigkonsult.se iCalcreator 2.30.10//
CALSCALE:GREGORIAN
METHOD:PUBLISH
UID:0f30a839-a20a-452e-847e-9583307e3642
X-WR-CALDESC:
X-WR-RELCALID:1a715ad44f3d3805106ecffa4f7ca0e7
X-WR-TIMEZONE:America/New_York
BEGIN:VTIMEZONE
TZID:America/New_York
BEGIN:STANDARD
TZNAME:EST
DTSTART:20201101T020000
TZOFFSETFROM:-0400
TZOFFSETTO:-0500
RDATE:20211107T020000
END:STANDARD
BEGIN:DAYLIGHT
TZNAME:EDT
DTSTART:20200308T020000
TZOFFSETFROM:-0500
TZOFFSETTO:-0400
RDATE:20210314T020000
RDATE:20220313T020000
END:DAYLIGHT
END:VTIMEZONE
BEGIN:VEVENT
UID:8b8504ef-02c5-4a0b-8008-e92ba3ac5439
DTSTAMP:20260424T095935Z
DESCRIPTION:
DTSTART;TZID=America/New_York:20201214T180000
DTEND;TZID=America/New_York:20201214T190000
LOCATION:Village of Hebron Municipal Complex\, 934 West Main Street\, Hebro
 n\, OH
SUMMARY:South Licking Conservancy District
END:VEVENT
END:VCALENDAR
