BEGIN:VCALENDAR
VERSION:2.0
PRODID:-//lickingswcd.com//NONSGML kigkonsult.se iCalcreator 2.30.10//
CALSCALE:GREGORIAN
METHOD:PUBLISH
UID:57837f27-f008-4a3f-a47e-458db07e9fee
X-WR-CALDESC:Bring your questions to be shared in advance of the 2021 plant
 ing season\, partake in conversation about current grain markets\, and joi
 n the group in general Q&A to help attain goals on your farm.
X-WR-RELCALID:b10eb12cfa660866311190933ff58270
X-WR-TIMEZONE:America/New_York
BEGIN:VTIMEZONE
TZID:America/New_York
BEGIN:STANDARD
TZNAME:EST
DTSTART:20201101T020000
TZOFFSETFROM:-0400
TZOFFSETTO:-0500
RDATE:20211107T020000
END:STANDARD
BEGIN:DAYLIGHT
TZNAME:EDT
DTSTART:20210314T020000
TZOFFSETFROM:-0500
TZOFFSETTO:-0400
RDATE:20220313T020000
END:DAYLIGHT
END:VTIMEZONE
BEGIN:VEVENT
UID:07ae006d-897d-4fdf-8e3e-07e436395dca
DTSTAMP:20260424T181037Z
DESCRIPTION:Bring your questions to be shared in advance of the 2021 planti
 ng season\, partake in conversation about current grain markets\, and join
  the group in general Q&A to help attain goals on your farm.
DTSTART;TZID=America/New_York:20210408T193000
DTEND;TZID=America/New_York:20210408T203000
LOCATION:
SUMMARY:OEFFA Grain Growers Chapter
END:VEVENT
END:VCALENDAR
