BEGIN:VCALENDAR
VERSION:2.0
PRODID:-//lickingswcd.com//NONSGML kigkonsult.se iCalcreator 2.30.10//
CALSCALE:GREGORIAN
METHOD:PUBLISH
UID:c520744b-8be6-4b74-aaa4-ae0e0cc06311
X-WR-CALDESC:Free for Boys and Girls of all ages!\n\nThis event will be a d
 rive thru\, social distanced event children must be present in car\n\n-Fre
 e gift bag with conservation project and t-shirt for children in attendanc
 e\n-Cash Gun Raffle for adults\n-Registration / release must be completed 
 and brought with you the day of event.\n-Please enter the East gate and ex
 it only to the west
X-WR-RELCALID:bd557dff7d419cbd8f945ab0b0b2eb4c
X-WR-TIMEZONE:America/New_York
BEGIN:VTIMEZONE
TZID:America/New_York
BEGIN:STANDARD
TZNAME:EST
DTSTART:20201101T020000
TZOFFSETFROM:-0400
TZOFFSETTO:-0500
RDATE:20211107T020000
END:STANDARD
BEGIN:DAYLIGHT
TZNAME:EDT
DTSTART:20210314T020000
TZOFFSETFROM:-0500
TZOFFSETTO:-0400
RDATE:20220313T020000
END:DAYLIGHT
END:VTIMEZONE
BEGIN:VEVENT
UID:0d36d4ba-dfdc-4c74-8574-3bddb7608bdc
DTSTAMP:20260424T182052Z
DESCRIPTION:Free for Boys and Girls of all ages!\n\nThis event will be a dr
 ive thru\, social distanced event children must be present in car\n\n-Free
  gift bag with conservation project and t-shirt for children in attendance
 \n-Cash Gun Raffle for adults\n-Registration / release must be completed a
 nd brought with you the day of event.\n-Please enter the East gate and exi
 t only to the west
DTSTART;TZID=America/New_York:20210410T090000
DTEND;TZID=America/New_York:20210410T150000
LOCATION:7357 Sportsman Club Rd.\, Johnstown\, OH 43031 US
SUMMARY:SE Ohio Pheasants Forever 18th Annual Educational Youth Event
END:VEVENT
END:VCALENDAR
