BEGIN:VCALENDAR
VERSION:2.0
PRODID:-//lickingswcd.com//NONSGML kigkonsult.se iCalcreator 2.30.10//
CALSCALE:GREGORIAN
METHOD:PUBLISH
UID:5eb3d512-f480-4299-9a20-e26dfb6ae112
X-WR-CALDESC:For those who have pre-ordered trees\, the pick up date is Apr
 il 16\, 2021 from 8 am to 7 pm at the barn next to our office at 771 East 
 Main Street\, Newark\, OH  43055
X-WR-RELCALID:53f7b92fe6e854896adbb1db54dbbb18
X-WR-TIMEZONE:America/New_York
BEGIN:VTIMEZONE
TZID:America/New_York
BEGIN:STANDARD
TZNAME:EST
DTSTART:20201101T020000
TZOFFSETFROM:-0400
TZOFFSETTO:-0500
RDATE:20211107T020000
END:STANDARD
BEGIN:DAYLIGHT
TZNAME:EDT
DTSTART:20210314T020000
TZOFFSETFROM:-0500
TZOFFSETTO:-0400
RDATE:20220313T020000
END:DAYLIGHT
END:VTIMEZONE
BEGIN:VEVENT
UID:ed606a88-d2f8-4a4d-b659-fa082d5b3b46
DTSTAMP:20260424T181100Z
DESCRIPTION:For those who have pre-ordered trees\, the pick up date is Apri
 l 16\, 2021 from 8 am to 7 pm at the barn next to our office at 771 East M
 ain Street\, Newark\, OH  43055
DTSTART;TZID=America/New_York:20210416T080000
DTEND;TZID=America/New_York:20210416T190000
LOCATION:
SUMMARY:Tree Sale Pick Up Day!
END:VEVENT
END:VCALENDAR
