BEGIN:VCALENDAR
VERSION:2.0
PRODID:-//lickingswcd.com//NONSGML kigkonsult.se iCalcreator 2.30.10//
CALSCALE:GREGORIAN
METHOD:PUBLISH
UID:6b1bded2-923c-4081-a934-83de4b336abe
X-WR-CALDESC:Join over 1 billion participants around the world and take act
 ion on April 22nd.\n\nTOGETHER\, WE WILL RESTORE OUR EARTH.
X-WR-RELCALID:dd924a3d5a1778b7bf794c267ff87212
X-WR-TIMEZONE:America/New_York
BEGIN:VTIMEZONE
TZID:America/New_York
BEGIN:STANDARD
TZNAME:EST
DTSTART:20201101T020000
TZOFFSETFROM:-0400
TZOFFSETTO:-0500
RDATE:20211107T020000
END:STANDARD
BEGIN:DAYLIGHT
TZNAME:EDT
DTSTART:20210314T020000
TZOFFSETFROM:-0500
TZOFFSETTO:-0400
RDATE:20220313T020000
END:DAYLIGHT
END:VTIMEZONE
BEGIN:VEVENT
UID:0a48d24a-4147-47b5-8c46-7eeb17ce73aa
DTSTAMP:20260424T180620Z
DESCRIPTION:Join over 1 billion participants around the world and take acti
 on on April 22nd.\n\nTOGETHER\, WE WILL RESTORE OUR EARTH.
DTSTART;TZID=America/New_York:20210422T000000
DTEND;TZID=America/New_York:20210422T235900
LOCATION:
SUMMARY:Earth Day
END:VEVENT
END:VCALENDAR
