BEGIN:VCALENDAR
VERSION:2.0
PRODID:-//lickingswcd.com//NONSGML kigkonsult.se iCalcreator 2.30.10//
CALSCALE:GREGORIAN
METHOD:PUBLISH
UID:3e5cb057-7155-46c3-9798-b65fcbaba2f9
X-WR-CALDESC:Learn more about where to build a pond\, how to keep a pond he
 althy and what you should use to stock your pond. Steve Fender\, of Fender
  Fish Hatchery\, will address pond concerns and explain how to stock and m
 aintain a healthy pond. He will also address using windmills for aeration.
  \nThere will an opportunity for questions and answers throughout the prog
 ram.\nThere is a limit of 25 participants\, so please RSVP!
X-WR-RELCALID:dc2d5d0a3b6eaf589966acd4110ccf4b
X-WR-TIMEZONE:America/New_York
BEGIN:VTIMEZONE
TZID:America/New_York
BEGIN:STANDARD
TZNAME:EST
DTSTART:20201101T020000
TZOFFSETFROM:-0400
TZOFFSETTO:-0500
RDATE:20211107T020000
END:STANDARD
BEGIN:DAYLIGHT
TZNAME:EDT
DTSTART:20210314T020000
TZOFFSETFROM:-0500
TZOFFSETTO:-0400
RDATE:20220313T020000
END:DAYLIGHT
END:VTIMEZONE
BEGIN:VEVENT
UID:14e757b8-4ed4-447d-be05-ecb72aacf60a
DTSTAMP:20260424T180948Z
DESCRIPTION:Learn more about where to build a pond\, how to keep a pond hea
 lthy and what you should use to stock your pond. Steve Fender\, of Fender 
 Fish Hatchery\, will address pond concerns and explain how to stock and ma
 intain a healthy pond. He will also address using windmills for aeration. 
 \nThere will an opportunity for questions and answers throughout the progr
 am.\nThere is a limit of 25 participants\, so please RSVP!
DTSTART;TZID=America/New_York:20210428T173000
DTEND;TZID=America/New_York:20210428T190000
LOCATION:2400 Montegomery Road\, Newark\, OH 43055 US
SUMMARY:2021 Pond Clinic
END:VEVENT
END:VCALENDAR
