BEGIN:VCALENDAR
VERSION:2.0
PRODID:-//lickingswcd.com//NONSGML kigkonsult.se iCalcreator 2.30.10//
CALSCALE:GREGORIAN
METHOD:PUBLISH
UID:9f7ed205-2f82-43f8-96ad-9741c7e7bb81
X-WR-CALDESC:
X-WR-RELCALID:971f985e85c89aa3b4adff747133767a
X-WR-TIMEZONE:America/New_York
BEGIN:VTIMEZONE
TZID:America/New_York
BEGIN:STANDARD
TZNAME:EST
DTSTART:20201101T020000
TZOFFSETFROM:-0400
TZOFFSETTO:-0500
RDATE:20211107T020000
END:STANDARD
BEGIN:DAYLIGHT
TZNAME:EDT
DTSTART:20210314T020000
TZOFFSETFROM:-0500
TZOFFSETTO:-0400
RDATE:20220313T020000
END:DAYLIGHT
END:VTIMEZONE
BEGIN:VEVENT
UID:a61ff9c5-f34e-4eda-b9d0-a4d262307d45
DTSTAMP:20260424T200715Z
DESCRIPTION:
DTSTART;TZID=America/New_York:20210504T000000
DTEND;TZID=America/New_York:20210504T235900
LOCATION:
SUMMARY:Cinco de Mayo
END:VEVENT
END:VCALENDAR
