BEGIN:VCALENDAR
VERSION:2.0
PRODID:-//lickingswcd.com//NONSGML kigkonsult.se iCalcreator 2.30.10//
CALSCALE:GREGORIAN
METHOD:PUBLISH
UID:5e43fc84-d21d-48ec-a7f6-8d5ed36829ef
X-WR-CALDESC:
X-WR-RELCALID:5e9a1d44d8cb171cc803a52fe8e3a908
X-WR-TIMEZONE:America/New_York
BEGIN:VTIMEZONE
TZID:America/New_York
BEGIN:STANDARD
TZNAME:EST
DTSTART:20201101T020000
TZOFFSETFROM:-0400
TZOFFSETTO:-0500
RDATE:20211107T020000
RDATE:20221106T020000
END:STANDARD
BEGIN:DAYLIGHT
TZNAME:EDT
DTSTART:20210314T020000
TZOFFSETFROM:-0500
TZOFFSETTO:-0400
RDATE:20220313T020000
END:DAYLIGHT
END:VTIMEZONE
BEGIN:VEVENT
UID:1647854a-5b59-4426-915a-8ee5bfd73e92
DTSTAMP:20260424T234753Z
DESCRIPTION:
DTSTART;TZID=America/New_York:20210605T000000
DTEND;TZID=America/New_York:20210605T235900
LOCATION:
SUMMARY:World Environment Day
END:VEVENT
END:VCALENDAR
