BEGIN:VCALENDAR
VERSION:2.0
PRODID:-//lickingswcd.com//NONSGML kigkonsult.se iCalcreator 2.30.10//
CALSCALE:GREGORIAN
METHOD:PUBLISH
UID:18cd12cb-0e13-4491-94ed-d11005ba01f3
X-WR-CALDESC:Licking County Farm Bureau\, Licking County Soil & Water Conse
 rvation District and Licking County OSU Extension join forces for the 2021
  Farm Tour. The tour will begin at Watts Farm with a catered breakfast fol
 lowed by a tour of the facility and cattle operation. Travel will be on yo
 ur own to Timbuk Farms to tour its state-of-the-art greenhouse operation.
 \n\nJoin us on Saturday\, June 19\, 2021 at 7:30 a.m. at the Watts Farm fo
 r registration and breakfast\; self-driving tours will be starting at 8:30
  a.m. until 12:30 pm.  Tickets are $12 each or $20 per couple\, and can be
  purchased by calling 740-452-2356.\n\nRSVP: June 4
X-WR-RELCALID:541348471f04911eeadba88ac4521d3e
X-WR-TIMEZONE:America/New_York
BEGIN:VTIMEZONE
TZID:America/New_York
BEGIN:STANDARD
TZNAME:EST
DTSTART:20201101T020000
TZOFFSETFROM:-0400
TZOFFSETTO:-0500
RDATE:20211107T020000
RDATE:20221106T020000
END:STANDARD
BEGIN:DAYLIGHT
TZNAME:EDT
DTSTART:20210314T020000
TZOFFSETFROM:-0500
TZOFFSETTO:-0400
RDATE:20220313T020000
END:DAYLIGHT
END:VTIMEZONE
BEGIN:VEVENT
UID:0ca5e375-b86b-4e3e-8e9f-a17ed42ec9f4
DTSTAMP:20260424T221310Z
DESCRIPTION:Licking County Farm Bureau\, Licking County Soil & Water Conser
 vation District and Licking County OSU Extension join forces for the 2021 
 Farm Tour. The tour will begin at Watts Farm with a catered breakfast foll
 owed by a tour of the facility and cattle operation. Travel will be on you
 r own to Timbuk Farms to tour its state-of-the-art greenhouse operation.\n
 \nJoin us on Saturday\, June 19\, 2021 at 7:30 a.m. at the Watts Farm for 
 registration and breakfast\; self-driving tours will be starting at 8:30 a
 .m. until 12:30 pm.  Tickets are $12 each or $20 per couple\, and can be p
 urchased by calling 740-452-2356.\n\nRSVP: June 4
DTSTART;TZID=America/New_York:20210619T073000
DTEND;TZID=America/New_York:20210619T120000
LOCATION:Watts Farm 3966 Moots Run Road\, Alexandria\, OH 43001
SUMMARY:LC Farm Bureau Farm Tour
END:VEVENT
END:VCALENDAR
