BEGIN:VCALENDAR
VERSION:2.0
PRODID:-//lickingswcd.com//NONSGML kigkonsult.se iCalcreator 2.30.10//
CALSCALE:GREGORIAN
METHOD:PUBLISH
UID:85374325-726d-45e2-93bc-0443955fd3e4
X-WR-CALDESC:
X-WR-RELCALID:5dd2ed55b97db6aa07567265549b9d3b
X-WR-TIMEZONE:America/New_York
BEGIN:VTIMEZONE
TZID:America/New_York
BEGIN:STANDARD
TZNAME:EST
DTSTART:20201101T020000
TZOFFSETFROM:-0400
TZOFFSETTO:-0500
RDATE:20211107T020000
RDATE:20221106T020000
END:STANDARD
BEGIN:DAYLIGHT
TZNAME:EDT
DTSTART:20210314T020000
TZOFFSETFROM:-0500
TZOFFSETTO:-0400
RDATE:20220313T020000
END:DAYLIGHT
END:VTIMEZONE
BEGIN:VEVENT
UID:331e16a8-cd83-47a7-960a-17913b29e0d7
DTSTAMP:20260424T220506Z
DESCRIPTION:
DTSTART;TZID=America/New_York:20210620T000000
DTEND;TZID=America/New_York:20210620T235900
LOCATION:
SUMMARY:Father's Day
END:VEVENT
END:VCALENDAR
