BEGIN:VCALENDAR
VERSION:2.0
PRODID:-//lickingswcd.com//NONSGML kigkonsult.se iCalcreator 2.30.10//
CALSCALE:GREGORIAN
METHOD:PUBLISH
UID:5c99fd3f-b862-45c3-a96e-627e5547a6ec
X-WR-CALDESC:
X-WR-RELCALID:2c7dd0848457edd4c218be012af2e2b6
X-WR-TIMEZONE:America/New_York
BEGIN:VTIMEZONE
TZID:America/New_York
BEGIN:STANDARD
TZNAME:EST
DTSTART:20201101T020000
TZOFFSETFROM:-0400
TZOFFSETTO:-0500
RDATE:20211107T020000
RDATE:20221106T020000
END:STANDARD
BEGIN:DAYLIGHT
TZNAME:EDT
DTSTART:20210314T020000
TZOFFSETFROM:-0500
TZOFFSETTO:-0400
RDATE:20220313T020000
END:DAYLIGHT
END:VTIMEZONE
BEGIN:VEVENT
UID:79970368-0c4d-45fb-806c-0b4f16813c8f
DTSTAMP:20260424T220712Z
DESCRIPTION:
DTSTART;TZID=America/New_York:20210622T000000
DTEND;TZID=America/New_York:20210622T235900
LOCATION:
SUMMARY:World Rainforest Day
END:VEVENT
END:VCALENDAR
