BEGIN:VCALENDAR
VERSION:2.0
PRODID:-//lickingswcd.com//NONSGML kigkonsult.se iCalcreator 2.30.10//
CALSCALE:GREGORIAN
METHOD:PUBLISH
UID:d8632c8b-7f57-4a51-bcb0-9c5d4d66db55
X-WR-CALDESC:
X-WR-RELCALID:1f58d817662170c676bfe12b9b2e3cfa
X-WR-TIMEZONE:America/New_York
BEGIN:VTIMEZONE
TZID:America/New_York
BEGIN:STANDARD
TZNAME:EST
DTSTART:20201101T020000
TZOFFSETFROM:-0400
TZOFFSETTO:-0500
RDATE:20211107T020000
RDATE:20221106T020000
END:STANDARD
BEGIN:DAYLIGHT
TZNAME:EDT
DTSTART:20210314T020000
TZOFFSETFROM:-0500
TZOFFSETTO:-0400
RDATE:20220313T020000
END:DAYLIGHT
END:VTIMEZONE
BEGIN:VEVENT
UID:35171aae-cd60-4115-999d-a07c6e5b6632
DTSTAMP:20260424T221350Z
DESCRIPTION:
DTSTART;TZID=America/New_York:20210623T130000
DTEND;TZID=America/New_York:20210623T140000
LOCATION:
SUMMARY:River Round Up Planning Committee Meeting
END:VEVENT
END:VCALENDAR
