BEGIN:VCALENDAR
VERSION:2.0
PRODID:-//lickingswcd.com//NONSGML kigkonsult.se iCalcreator 2.30.10//
CALSCALE:GREGORIAN
METHOD:PUBLISH
UID:38568d3b-2a97-41a9-9bd4-18bde0fe1a30
X-WR-CALDESC:Explore our brand new exhibit Habitat this summer at EcoKids! 
 Starting on June 11\, join us outside in the LeFevre Courtyard every Frida
 y as we learn about habitats and the world around us!
X-WR-RELCALID:7e7fccc39c2e2bb95b74a3b6fc8f06d5
X-WR-TIMEZONE:America/New_York
BEGIN:VTIMEZONE
TZID:America/New_York
BEGIN:STANDARD
TZNAME:EST
DTSTART:20201101T020000
TZOFFSETFROM:-0400
TZOFFSETTO:-0500
RDATE:20211107T020000
RDATE:20221106T020000
END:STANDARD
BEGIN:DAYLIGHT
TZNAME:EDT
DTSTART:20210314T020000
TZOFFSETFROM:-0500
TZOFFSETTO:-0400
RDATE:20220313T020000
END:DAYLIGHT
END:VTIMEZONE
BEGIN:VEVENT
UID:899f975a-630b-4a7a-b9b1-9a0bf79ad87a
DTSTAMP:20260424T234618Z
DESCRIPTION:Explore our brand new exhibit Habitat this summer at EcoKids! S
 tarting on June 11\, join us outside in the LeFevre Courtyard every Friday
  as we learn about habitats and the world around us!
DTSTART;TZID=America/New_York:20210709T093000
DTEND;TZID=America/New_York:20210709T103000
LOCATION:
SUMMARY:LCSWCD EcoKids Program
END:VEVENT
END:VCALENDAR
