BEGIN:VCALENDAR
VERSION:2.0
PRODID:-//lickingswcd.com//NONSGML kigkonsult.se iCalcreator 2.30.10//
CALSCALE:GREGORIAN
METHOD:PUBLISH
UID:d7c356b3-5100-4f17-a719-146ed5383b19
X-WR-CALDESC:
X-WR-RELCALID:e689d02af8993169b02951f25bd45dca
X-WR-TIMEZONE:America/New_York
BEGIN:VTIMEZONE
TZID:America/New_York
BEGIN:STANDARD
TZNAME:EST
DTSTART:20201101T020000
TZOFFSETFROM:-0400
TZOFFSETTO:-0500
RDATE:20211107T020000
RDATE:20221106T020000
END:STANDARD
BEGIN:DAYLIGHT
TZNAME:EDT
DTSTART:20210314T020000
TZOFFSETFROM:-0500
TZOFFSETTO:-0400
RDATE:20220313T020000
END:DAYLIGHT
END:VTIMEZONE
BEGIN:VEVENT
UID:92571e28-7d2b-4713-9e63-cb66ffa7668d
DTSTAMP:20260425T000558Z
DESCRIPTION:
DTSTART;TZID=America/New_York:20210728T130000
DTEND;TZID=America/New_York:20210728T140000
LOCATION:
SUMMARY:River Round Up Planning Committee Meeting
END:VEVENT
END:VCALENDAR
