BEGIN:VCALENDAR
VERSION:2.0
PRODID:-//lickingswcd.com//NONSGML kigkonsult.se iCalcreator 2.30.10//
CALSCALE:GREGORIAN
METHOD:PUBLISH
UID:d4186c61-cae2-48ed-8593-033f579da1e5
X-WR-CALDESC:The beautiful 4-acre Natural Resources Area at the Hartford Fa
 ir is located behind the horse arena and goat barns. Free\, family-friendl
 y programs and contests are offered throughout the week of the Hartford Fa
 ir. Join Licking Park District for programs at 1pm!
X-WR-RELCALID:7473ed02f1d8cdca943f10ba9609c480
X-WR-TIMEZONE:America/New_York
BEGIN:VTIMEZONE
TZID:America/New_York
BEGIN:STANDARD
TZNAME:EST
DTSTART:20201101T020000
TZOFFSETFROM:-0400
TZOFFSETTO:-0500
RDATE:20211107T020000
RDATE:20221106T020000
END:STANDARD
BEGIN:DAYLIGHT
TZNAME:EDT
DTSTART:20210314T020000
TZOFFSETFROM:-0500
TZOFFSETTO:-0400
RDATE:20220313T020000
END:DAYLIGHT
END:VTIMEZONE
BEGIN:VEVENT
UID:9d6a888b-35c5-4b2b-975d-7f2f51b4a460
DTSTAMP:20260425T014619Z
DESCRIPTION:The beautiful 4-acre Natural Resources Area at the Hartford Fai
 r is located behind the horse arena and goat barns. Free\, family-friendly
  programs and contests are offered throughout the week of the Hartford Fai
 r. Join Licking Park District for programs at 1pm!
DTSTART;TZID=America/New_York:20210811T130000
DTEND;TZID=America/New_York:20210811T150000
LOCATION:Hartford Fairgrounds
SUMMARY:Licking Park District Program at Hartford Fair
END:VEVENT
END:VCALENDAR
