BEGIN:VCALENDAR
VERSION:2.0
PRODID:-//lickingswcd.com//NONSGML kigkonsult.se iCalcreator 2.30.10//
CALSCALE:GREGORIAN
METHOD:PUBLISH
UID:e2995f81-6cdf-473a-88ec-772cb177ac1d
X-WR-CALDESC:The beautiful 4-acre Natural Resources Area at the Hartford Fa
 ir is located behind the horse arena and goat barns. Free\, family-friendl
 y programs and contests are offered throughout the week of the Hartford Fa
 ir. Join us for the FFA challenge and Natural Resource 'Skill-a-Thon' at 1
 pm!
X-WR-RELCALID:ef03b42541fa767b59490509db52acb7
X-WR-TIMEZONE:America/New_York
BEGIN:VTIMEZONE
TZID:America/New_York
BEGIN:STANDARD
TZNAME:EST
DTSTART:20201101T020000
TZOFFSETFROM:-0400
TZOFFSETTO:-0500
RDATE:20211107T020000
RDATE:20221106T020000
END:STANDARD
BEGIN:DAYLIGHT
TZNAME:EDT
DTSTART:20210314T020000
TZOFFSETFROM:-0500
TZOFFSETTO:-0400
RDATE:20220313T020000
END:DAYLIGHT
END:VTIMEZONE
BEGIN:VEVENT
UID:2a25fc68-0a1f-4539-b40a-086ea506c590
DTSTAMP:20260425T014906Z
DESCRIPTION:The beautiful 4-acre Natural Resources Area at the Hartford Fai
 r is located behind the horse arena and goat barns. Free\, family-friendly
  programs and contests are offered throughout the week of the Hartford Fai
 r. Join us for the FFA challenge and Natural Resource 'Skill-a-Thon' at 1p
 m!
DTSTART;TZID=America/New_York:20210813T130000
DTEND;TZID=America/New_York:20210813T150000
LOCATION:Hartford Fairgrounds
SUMMARY:FFA Challenge and Natural Resources 'Skill-a-Thon' at Hartford Fair
END:VEVENT
END:VCALENDAR
