BEGIN:VCALENDAR
VERSION:2.0
PRODID:-//lickingswcd.com//NONSGML kigkonsult.se iCalcreator 2.30.10//
CALSCALE:GREGORIAN
METHOD:PUBLISH
UID:2cc5b8aa-e011-4897-85bb-e86a501333a1
X-WR-CALDESC:
X-WR-RELCALID:4d654e65538cc2811a54e2821f2f8fb9
X-WR-TIMEZONE:America/New_York
BEGIN:VTIMEZONE
TZID:America/New_York
BEGIN:STANDARD
TZNAME:EST
DTSTART:20201101T020000
TZOFFSETFROM:-0400
TZOFFSETTO:-0500
RDATE:20211107T020000
RDATE:20221106T020000
END:STANDARD
BEGIN:DAYLIGHT
TZNAME:EDT
DTSTART:20210314T020000
TZOFFSETFROM:-0500
TZOFFSETTO:-0400
RDATE:20220313T020000
END:DAYLIGHT
END:VTIMEZONE
BEGIN:VEVENT
UID:8fd1fc19-297e-4ffa-b65a-afd14e9daadf
DTSTAMP:20260425T015118Z
DESCRIPTION:
DTSTART;TZID=America/New_York:20210825T130000
DTEND;TZID=America/New_York:20210825T140000
LOCATION:
SUMMARY:River Round Up Planning Committee Meeting
END:VEVENT
END:VCALENDAR
