BEGIN:VCALENDAR
VERSION:2.0
PRODID:-//lickingswcd.com//NONSGML kigkonsult.se iCalcreator 2.30.10//
CALSCALE:GREGORIAN
METHOD:PUBLISH
UID:4a45357e-042b-4628-b1f1-bc8391bcdc68
X-WR-CALDESC:Bring your ready pods to our office and drop them in the colle
 ction bin!
X-WR-RELCALID:ce056c6dea1311d2b249a83febf651fb
X-WR-TIMEZONE:America/New_York
BEGIN:VTIMEZONE
TZID:America/New_York
BEGIN:STANDARD
TZNAME:EST
DTSTART:20201101T020000
TZOFFSETFROM:-0400
TZOFFSETTO:-0500
RDATE:20211107T020000
RDATE:20221106T020000
END:STANDARD
BEGIN:DAYLIGHT
TZNAME:EDT
DTSTART:20210314T020000
TZOFFSETFROM:-0500
TZOFFSETTO:-0400
RDATE:20220313T020000
END:DAYLIGHT
END:VTIMEZONE
BEGIN:VEVENT
UID:d536893a-5e34-498b-99ec-e0fbfe256f0b
DTSTAMP:20260425T032639Z
DESCRIPTION:Bring your ready pods to our office and drop them in the collec
 tion bin!
DTSTART;TZID=America/New_York:20210901T000000
DTEND;TZID=America/New_York:20210901T235900
LOCATION:Licking Soil & Water Office
SUMMARY:Milkweed Pod Collection Begins
END:VEVENT
END:VCALENDAR
