BEGIN:VCALENDAR
VERSION:2.0
PRODID:-//lickingswcd.com//NONSGML kigkonsult.se iCalcreator 2.30.10//
CALSCALE:GREGORIAN
METHOD:PUBLISH
UID:6adbf9b1-c719-45bf-99d8-4445a1dc39fe
X-WR-CALDESC:
X-WR-RELCALID:651a6ffa6f8e4ace7dd263cbb8fc70b6
X-WR-TIMEZONE:America/New_York
BEGIN:VTIMEZONE
TZID:America/New_York
BEGIN:STANDARD
TZNAME:EST
DTSTART:20201101T020000
TZOFFSETFROM:-0400
TZOFFSETTO:-0500
RDATE:20211107T020000
RDATE:20221106T020000
END:STANDARD
BEGIN:DAYLIGHT
TZNAME:EDT
DTSTART:20210314T020000
TZOFFSETFROM:-0500
TZOFFSETTO:-0400
RDATE:20220313T020000
END:DAYLIGHT
END:VTIMEZONE
BEGIN:VEVENT
UID:289d0666-dffc-4a6d-a354-27ca75e39ce9
DTSTAMP:20260425T032452Z
DESCRIPTION:
DTSTART;TZID=America/New_York:20210906T000000
DTEND;TZID=America/New_York:20210906T235900
LOCATION:
SUMMARY:Labor Day - Office Closed
END:VEVENT
END:VCALENDAR
