BEGIN:VCALENDAR
VERSION:2.0
PRODID:-//lickingswcd.com//NONSGML kigkonsult.se iCalcreator 2.30.10//
CALSCALE:GREGORIAN
METHOD:PUBLISH
UID:0c0ea55f-36b8-4e88-9fe1-4695e5d939c2
X-WR-CALDESC:Join us for our annual\, county-wide river cleanup event in Sa
 turday\, September 11th. This community event brings out hundreds of volun
 teers who pull tires\, shopping carts and mountains of trash from the Lick
 ing River and its tributaries.
X-WR-RELCALID:7444a7d5baeef9e864efdc6e50a580ac
X-WR-TIMEZONE:America/New_York
BEGIN:VTIMEZONE
TZID:America/New_York
BEGIN:STANDARD
TZNAME:EST
DTSTART:20201101T020000
TZOFFSETFROM:-0400
TZOFFSETTO:-0500
RDATE:20211107T020000
RDATE:20221106T020000
END:STANDARD
BEGIN:DAYLIGHT
TZNAME:EDT
DTSTART:20210314T020000
TZOFFSETFROM:-0500
TZOFFSETTO:-0400
RDATE:20220313T020000
RDATE:20230312T020000
END:DAYLIGHT
END:VTIMEZONE
BEGIN:VEVENT
UID:9f167751-bf6d-43e2-a317-0e76d7abbe43
DTSTAMP:20260425T031938Z
DESCRIPTION:Join us for our annual\, county-wide river cleanup event in Sat
 urday\, September 11th. This community event brings out hundreds of volunt
 eers who pull tires\, shopping carts and mountains of trash from the Licki
 ng River and its tributaries.
DTSTART;TZID=America/New_York:20210911T000000
DTEND;TZID=America/New_York:20210911T235900
LOCATION:
SUMMARY:2021 River Round Up
END:VEVENT
END:VCALENDAR
