BEGIN:VCALENDAR
VERSION:2.0
PRODID:-//lickingswcd.com//NONSGML kigkonsult.se iCalcreator 2.30.10//
CALSCALE:GREGORIAN
METHOD:PUBLISH
UID:5aaeeeb3-0326-4269-9cc7-e26955593bd7
X-WR-CALDESC:Call meeting to order ~ Pledge of Allegiance \nI.	OLD BUSINESS
 \nA.	 H2Ohio Wetland Application for Banded Brothers property\n\nII. COMMIT
 TEE and OTHER REPORTS\nA.  Policy / Personnel Committee – Chair Hollenback
 \nn	Program Assistant job description updated to Program  Coordinator\n\n
X-WR-RELCALID:0a3e80905addbb134dfc21278eb261df
X-WR-TIMEZONE:America/New_York
BEGIN:VTIMEZONE
TZID:America/New_York
BEGIN:STANDARD
TZNAME:EST
DTSTART:20201101T020000
TZOFFSETFROM:-0400
TZOFFSETTO:-0500
RDATE:20211107T020000
RDATE:20221106T020000
END:STANDARD
BEGIN:DAYLIGHT
TZNAME:EDT
DTSTART:20210314T020000
TZOFFSETFROM:-0500
TZOFFSETTO:-0400
RDATE:20220313T020000
RDATE:20230312T020000
END:DAYLIGHT
END:VTIMEZONE
BEGIN:VEVENT
UID:8c18120a-c063-4414-b83d-23f6a1902d04
DTSTAMP:20260425T032809Z
DESCRIPTION:Call meeting to order ~ Pledge of Allegiance \nI.	OLD BUSINESS\n
 A.	 H2Ohio Wetland Application for Banded Brothers property\n\nII. COMMITTE
 E and OTHER REPORTS\nA.  Policy / Personnel Committee – Chair Hollenback\n
 ●	Program Assistant job description updated to Program  Coordinator\n\n
DTSTART;TZID=America/New_York:20210928T113000
DTEND;TZID=America/New_York:20210928T123000
LOCATION:
SUMMARY:Soil & Water Special Board Meeting
END:VEVENT
END:VCALENDAR
