BEGIN:VCALENDAR
VERSION:2.0
PRODID:-//lickingswcd.com//NONSGML kigkonsult.se iCalcreator 2.30.10//
CALSCALE:GREGORIAN
METHOD:PUBLISH
UID:025d263a-4229-48d8-ab0e-9f27e9da91ea
X-WR-CALDESC:RSVP by January 10th
X-WR-RELCALID:028832c1776689c0c4f7df4eb74369c0
X-WR-TIMEZONE:America/New_York
BEGIN:VTIMEZONE
TZID:America/New_York
BEGIN:STANDARD
TZNAME:EST
DTSTART:20211107T020000
TZOFFSETFROM:-0400
TZOFFSETTO:-0500
RDATE:20221106T020000
END:STANDARD
BEGIN:DAYLIGHT
TZNAME:EDT
DTSTART:20210314T020000
TZOFFSETFROM:-0500
TZOFFSETTO:-0400
RDATE:20220313T020000
RDATE:20230312T020000
END:DAYLIGHT
END:VTIMEZONE
BEGIN:VEVENT
UID:9cda997f-3b0d-4e11-b3fd-3e9c7d865596
DTSTAMP:20260425T111031Z
DESCRIPTION:RSVP by January 10th
DTSTART;TZID=America/New_York:20220113T183000
DTEND;TZID=America/New_York:20220113T203000
LOCATION:Ross County Service Center\, 475 Western Ave\, Rm B&D\, Chillicoth
 e OH 45601
SUMMARY:Timber Marketing Workshop with ODNR
END:VEVENT
END:VCALENDAR
