BEGIN:VCALENDAR
VERSION:2.0
PRODID:-//lickingswcd.com//NONSGML kigkonsult.se iCalcreator 2.30.10//
CALSCALE:GREGORIAN
METHOD:PUBLISH
UID:447d1ac4-5a93-4ac5-91ad-38c4e3e7e08a
X-WR-CALDESC:
X-WR-RELCALID:bd9b788b8dfe4c95fbf27baeca6a85d8
X-WR-TIMEZONE:America/New_York
BEGIN:VTIMEZONE
TZID:America/New_York
BEGIN:STANDARD
TZNAME:EST
DTSTART:20211107T020000
TZOFFSETFROM:-0400
TZOFFSETTO:-0500
RDATE:20221106T020000
END:STANDARD
BEGIN:DAYLIGHT
TZNAME:EDT
DTSTART:20210314T020000
TZOFFSETFROM:-0500
TZOFFSETTO:-0400
RDATE:20220313T020000
RDATE:20230312T020000
END:DAYLIGHT
END:VTIMEZONE
BEGIN:VEVENT
UID:99efe49e-6d41-4831-bfae-3f0e612d6eb3
DTSTAMP:20260425T111445Z
DESCRIPTION:
DTSTART;TZID=America/New_York:20220117T000000
DTEND;TZID=America/New_York:20220117T235900
LOCATION:
SUMMARY:Martin Luther King Jr. Day (office closed)
END:VEVENT
END:VCALENDAR
