BEGIN:VCALENDAR
VERSION:2.0
PRODID:-//lickingswcd.com//NONSGML kigkonsult.se iCalcreator 2.30.10//
CALSCALE:GREGORIAN
METHOD:PUBLISH
UID:2261de1f-7674-4ff1-8123-956385bffdb6
X-WR-CALDESC:
X-WR-RELCALID:83604727f5da713c26013ccde5052202
X-WR-TIMEZONE:America/New_York
BEGIN:VTIMEZONE
TZID:America/New_York
BEGIN:STANDARD
TZNAME:EST
DTSTART:20211107T020000
TZOFFSETFROM:-0400
TZOFFSETTO:-0500
RDATE:20221106T020000
END:STANDARD
BEGIN:DAYLIGHT
TZNAME:EDT
DTSTART:20210314T020000
TZOFFSETFROM:-0500
TZOFFSETTO:-0400
RDATE:20220313T020000
RDATE:20230312T020000
END:DAYLIGHT
END:VTIMEZONE
BEGIN:VEVENT
UID:27df732d-23bb-4c82-9dde-68da2e1514f7
DTSTAMP:20260425T130920Z
DESCRIPTION:
DTSTART;TZID=America/New_York:20220209T163000
DTEND;TZID=America/New_York:20220209T183000
LOCATION:
SUMMARY:Board of Supervisors Monthly Meeting
END:VEVENT
END:VCALENDAR
