BEGIN:VCALENDAR
VERSION:2.0
PRODID:-//lickingswcd.com//NONSGML kigkonsult.se iCalcreator 2.30.10//
CALSCALE:GREGORIAN
METHOD:PUBLISH
UID:f6b19fe4-8433-4151-af69-12dc1951c6a1
X-WR-CALDESC:
X-WR-RELCALID:c49452bba3d6a91f6d22ae9a4ddca71e
X-WR-TIMEZONE:America/New_York
BEGIN:VTIMEZONE
TZID:America/New_York
BEGIN:STANDARD
TZNAME:EST
DTSTART:20211107T020000
TZOFFSETFROM:-0400
TZOFFSETTO:-0500
RDATE:20221106T020000
END:STANDARD
BEGIN:DAYLIGHT
TZNAME:EDT
DTSTART:20210314T020000
TZOFFSETFROM:-0500
TZOFFSETTO:-0400
RDATE:20220313T020000
RDATE:20230312T020000
END:DAYLIGHT
END:VTIMEZONE
BEGIN:VEVENT
UID:d2d2f7b7-decc-4df9-b8a6-62163563558d
DTSTAMP:20260425T130001Z
DESCRIPTION:
DTSTART;TZID=America/New_York:20220214T000000
DTEND;TZID=America/New_York:20220214T235900
LOCATION:
SUMMARY:Valentine's Day
END:VEVENT
END:VCALENDAR
