BEGIN:VCALENDAR
VERSION:2.0
PRODID:-//lickingswcd.com//NONSGML kigkonsult.se iCalcreator 2.30.10//
CALSCALE:GREGORIAN
METHOD:PUBLISH
UID:10670c1b-8cc1-49f1-b5cd-476bffb79517
X-WR-CALDESC:
X-WR-RELCALID:1a105d7d864e11b27434a03c0d35f9cd
X-WR-TIMEZONE:America/New_York
BEGIN:VTIMEZONE
TZID:America/New_York
BEGIN:STANDARD
TZNAME:EST
DTSTART:20211107T020000
TZOFFSETFROM:-0400
TZOFFSETTO:-0500
RDATE:20221106T020000
END:STANDARD
BEGIN:DAYLIGHT
TZNAME:EDT
DTSTART:20210314T020000
TZOFFSETFROM:-0500
TZOFFSETTO:-0400
RDATE:20220313T020000
RDATE:20230312T020000
END:DAYLIGHT
END:VTIMEZONE
BEGIN:VEVENT
UID:8ff867c4-7ab3-4de2-99f3-6b837b12892f
DTSTAMP:20260425T144300Z
DESCRIPTION:
DTSTART;TZID=America/New_York:20220302T100000
DTEND;TZID=America/New_York:20220302T120000
LOCATION:
SUMMARY:OCVN Class
END:VEVENT
END:VCALENDAR
