BEGIN:VCALENDAR
VERSION:2.0
PRODID:-//lickingswcd.com//NONSGML kigkonsult.se iCalcreator 2.30.10//
CALSCALE:GREGORIAN
METHOD:PUBLISH
UID:2fe5f92c-c3f6-49e5-a099-dd810d50dca4
X-WR-CALDESC:
X-WR-RELCALID:3cba1a780213ca49fc3244212b1c01ba
X-WR-TIMEZONE:America/New_York
BEGIN:VTIMEZONE
TZID:America/New_York
BEGIN:STANDARD
TZNAME:EST
DTSTART:20211107T020000
TZOFFSETFROM:-0400
TZOFFSETTO:-0500
RDATE:20221106T020000
END:STANDARD
BEGIN:DAYLIGHT
TZNAME:EDT
DTSTART:20210314T020000
TZOFFSETFROM:-0500
TZOFFSETTO:-0400
RDATE:20220313T020000
RDATE:20230312T020000
END:DAYLIGHT
END:VTIMEZONE
BEGIN:VEVENT
UID:39984f37-c28b-4e67-ae9b-6f955c9e89aa
DTSTAMP:20260425T144433Z
DESCRIPTION:
DTSTART;TZID=America/New_York:20220305T090000
DTEND;TZID=America/New_York:20220306T160000
LOCATION:55 S. 1st Street\, Newark\, OH 43055 US
SUMMARY:STEMfest!
END:VEVENT
END:VCALENDAR
