BEGIN:VCALENDAR
VERSION:2.0
PRODID:-//lickingswcd.com//NONSGML kigkonsult.se iCalcreator 2.30.10//
CALSCALE:GREGORIAN
METHOD:PUBLISH
UID:1b72e62c-b228-4111-a4cf-715af015b0cf
X-WR-CALDESC:
X-WR-RELCALID:c1510fe4dd5f5d479de076425e070877
X-WR-TIMEZONE:America/New_York
BEGIN:VTIMEZONE
TZID:America/New_York
BEGIN:STANDARD
TZNAME:EST
DTSTART:20211107T020000
TZOFFSETFROM:-0400
TZOFFSETTO:-0500
RDATE:20221106T020000
END:STANDARD
BEGIN:DAYLIGHT
TZNAME:EDT
DTSTART:20210314T020000
TZOFFSETFROM:-0500
TZOFFSETTO:-0400
RDATE:20220313T020000
RDATE:20230312T020000
END:DAYLIGHT
END:VTIMEZONE
BEGIN:VEVENT
UID:4d8da210-93f9-4009-8b4b-24d49ba04b18
DTSTAMP:20260425T150137Z
DESCRIPTION:
DTSTART;TZID=America/New_York:20220308T000000
DTEND;TZID=America/New_York:20220309T235900
LOCATION:
SUMMARY:Conservation Tillage and Technology Conference
END:VEVENT
END:VCALENDAR
