BEGIN:VCALENDAR
VERSION:2.0
PRODID:-//lickingswcd.com//NONSGML kigkonsult.se iCalcreator 2.30.10//
CALSCALE:GREGORIAN
METHOD:PUBLISH
UID:753f9c0c-5a27-4d77-9547-6f52a796c527
X-WR-CALDESC:
X-WR-RELCALID:df3d61d64df626ed0abd2d471e855183
X-WR-TIMEZONE:America/New_York
BEGIN:VTIMEZONE
TZID:America/New_York
BEGIN:STANDARD
TZNAME:EST
DTSTART:20211107T020000
TZOFFSETFROM:-0400
TZOFFSETTO:-0500
RDATE:20221106T020000
END:STANDARD
BEGIN:DAYLIGHT
TZNAME:EDT
DTSTART:20220313T020000
TZOFFSETFROM:-0500
TZOFFSETTO:-0400
RDATE:20230312T020000
END:DAYLIGHT
END:VTIMEZONE
BEGIN:VEVENT
UID:39ece3a3-3e7d-4265-b41a-24d18f3ef172
DTSTAMP:20260425T150148Z
DESCRIPTION:
DTSTART;TZID=America/New_York:20220316T163000
DTEND;TZID=America/New_York:20220316T183000
LOCATION:
SUMMARY:Board of Supervisors Monthly Meeting
END:VEVENT
END:VCALENDAR
