BEGIN:VCALENDAR
VERSION:2.0
PRODID:-//lickingswcd.com//NONSGML kigkonsult.se iCalcreator 2.30.10//
CALSCALE:GREGORIAN
METHOD:PUBLISH
UID:54d1725f-376f-4173-9d11-efb3b866ad13
X-WR-CALDESC:
X-WR-RELCALID:5258e6f1ec958d2c891b4cc49b8d6da3
X-WR-TIMEZONE:America/New_York
BEGIN:VTIMEZONE
TZID:America/New_York
BEGIN:STANDARD
TZNAME:EST
DTSTART:20211107T020000
TZOFFSETFROM:-0400
TZOFFSETTO:-0500
RDATE:20221106T020000
END:STANDARD
BEGIN:DAYLIGHT
TZNAME:EDT
DTSTART:20220313T020000
TZOFFSETFROM:-0500
TZOFFSETTO:-0400
RDATE:20230312T020000
END:DAYLIGHT
END:VTIMEZONE
BEGIN:VEVENT
UID:5b03b3b7-fc48-4945-bc1d-4b1ff105af1e
DTSTAMP:20260425T144754Z
DESCRIPTION:
DTSTART;TZID=America/New_York:20220322T000000
DTEND;TZID=America/New_York:20220322T235900
LOCATION:
SUMMARY:World Water Day
END:VEVENT
END:VCALENDAR
