BEGIN:VCALENDAR
VERSION:2.0
PRODID:-//lickingswcd.com//NONSGML kigkonsult.se iCalcreator 2.30.10//
CALSCALE:GREGORIAN
METHOD:PUBLISH
UID:3f4164e1-adcf-4548-b838-ca3efa1eddcf
X-WR-CALDESC:
X-WR-RELCALID:a53a39c2ead92f8c9a16cba27e033dca
X-WR-TIMEZONE:America/New_York
BEGIN:VTIMEZONE
TZID:America/New_York
BEGIN:STANDARD
TZNAME:EST
DTSTART:20211107T020000
TZOFFSETFROM:-0400
TZOFFSETTO:-0500
RDATE:20221106T020000
END:STANDARD
BEGIN:DAYLIGHT
TZNAME:EDT
DTSTART:20220313T020000
TZOFFSETFROM:-0500
TZOFFSETTO:-0400
RDATE:20230312T020000
END:DAYLIGHT
END:VTIMEZONE
BEGIN:VEVENT
UID:0150cfe5-9fb4-4de3-9ebe-b6f8fbd6f601
DTSTAMP:20260425T151527Z
DESCRIPTION:
DTSTART;TZID=America/New_York:20220330T100000
DTEND;TZID=America/New_York:20220330T120000
LOCATION:
SUMMARY:OCVN Class
END:VEVENT
END:VCALENDAR
