BEGIN:VCALENDAR
VERSION:2.0
PRODID:-//lickingswcd.com//NONSGML kigkonsult.se iCalcreator 2.30.10//
CALSCALE:GREGORIAN
METHOD:PUBLISH
UID:6a5fe0f0-9f3e-4d1e-96d8-4540cf23b2bc
X-WR-CALDESC:
X-WR-RELCALID:49d8c2ae1c536241e899260df5863e80
X-WR-TIMEZONE:America/New_York
BEGIN:VTIMEZONE
TZID:America/New_York
BEGIN:STANDARD
TZNAME:EST
DTSTART:20211107T020000
TZOFFSETFROM:-0400
TZOFFSETTO:-0500
RDATE:20221106T020000
END:STANDARD
BEGIN:DAYLIGHT
TZNAME:EDT
DTSTART:20220313T020000
TZOFFSETFROM:-0500
TZOFFSETTO:-0400
RDATE:20230312T020000
END:DAYLIGHT
END:VTIMEZONE
BEGIN:VEVENT
UID:229cfee7-5e3b-41a4-9da0-04931141cf3a
DTSTAMP:20260425T162006Z
DESCRIPTION:
DTSTART;TZID=America/New_York:20220408T000000
DTEND;TZID=America/New_York:20220408T235900
LOCATION:
SUMMARY:River Round Up Poster Contest Submission Deadline
END:VEVENT
END:VCALENDAR
