BEGIN:VCALENDAR
VERSION:2.0
PRODID:-//lickingswcd.com//NONSGML kigkonsult.se iCalcreator 2.30.10//
CALSCALE:GREGORIAN
METHOD:PUBLISH
UID:4a99915f-5a15-42fc-a152-9fc81f9c8cfc
X-WR-CALDESC:
X-WR-RELCALID:b54bc3641f814cc71bcfe0f20b2ccc67
X-WR-TIMEZONE:America/New_York
BEGIN:VTIMEZONE
TZID:America/New_York
BEGIN:STANDARD
TZNAME:EST
DTSTART:20211107T020000
TZOFFSETFROM:-0400
TZOFFSETTO:-0500
RDATE:20221106T020000
END:STANDARD
BEGIN:DAYLIGHT
TZNAME:EDT
DTSTART:20220313T020000
TZOFFSETFROM:-0500
TZOFFSETTO:-0400
RDATE:20230312T020000
END:DAYLIGHT
END:VTIMEZONE
BEGIN:VEVENT
UID:0f579dca-e04b-41fa-8086-3d1bb2b43884
DTSTAMP:20260425T161459Z
DESCRIPTION:
DTSTART;TZID=America/New_York:20220412T000000
DTEND;TZID=America/New_York:20220412T235900
LOCATION:
SUMMARY:Tri-County Envirothon in Perry County
END:VEVENT
END:VCALENDAR
