BEGIN:VCALENDAR
VERSION:2.0
PRODID:-//lickingswcd.com//NONSGML kigkonsult.se iCalcreator 2.30.10//
CALSCALE:GREGORIAN
METHOD:PUBLISH
UID:5fe8ba0d-9b1c-437b-92ba-b27a76278362
X-WR-CALDESC:
X-WR-RELCALID:c7c5340a0e06d5bf6fd9f27e444da9df
X-WR-TIMEZONE:America/New_York
BEGIN:VTIMEZONE
TZID:America/New_York
BEGIN:STANDARD
TZNAME:EST
DTSTART:20211107T020000
TZOFFSETFROM:-0400
TZOFFSETTO:-0500
RDATE:20221106T020000
END:STANDARD
BEGIN:DAYLIGHT
TZNAME:EDT
DTSTART:20220313T020000
TZOFFSETFROM:-0500
TZOFFSETTO:-0400
RDATE:20230312T020000
END:DAYLIGHT
END:VTIMEZONE
BEGIN:VEVENT
UID:9ab61544-9f9a-4b99-ac90-9470844596c0
DTSTAMP:20260425T161120Z
DESCRIPTION:
DTSTART;TZID=America/New_York:20220413T100000
DTEND;TZID=America/New_York:20220413T120000
LOCATION:
SUMMARY:OCVN Class
END:VEVENT
END:VCALENDAR
