BEGIN:VCALENDAR
VERSION:2.0
PRODID:-//lickingswcd.com//NONSGML kigkonsult.se iCalcreator 2.30.10//
CALSCALE:GREGORIAN
METHOD:PUBLISH
UID:a80c50a5-4500-4773-8a06-69f1cb061421
X-WR-CALDESC:
X-WR-RELCALID:e03a59572f77b2f5471d396f514e5e96
X-WR-TIMEZONE:America/New_York
BEGIN:VTIMEZONE
TZID:America/New_York
BEGIN:STANDARD
TZNAME:EST
DTSTART:20211107T020000
TZOFFSETFROM:-0400
TZOFFSETTO:-0500
RDATE:20221106T020000
END:STANDARD
BEGIN:DAYLIGHT
TZNAME:EDT
DTSTART:20220313T020000
TZOFFSETFROM:-0500
TZOFFSETTO:-0400
RDATE:20230312T020000
END:DAYLIGHT
END:VTIMEZONE
BEGIN:VEVENT
UID:6c11797c-91bf-452e-8905-1180ddf7c326
DTSTAMP:20260425T164555Z
DESCRIPTION:
DTSTART;TZID=America/New_York:20220413T163000
DTEND;TZID=America/New_York:20220413T183000
LOCATION:
SUMMARY:Board of Supervisors Monthly Meeting
END:VEVENT
END:VCALENDAR
