BEGIN:VCALENDAR
VERSION:2.0
PRODID:-//lickingswcd.com//NONSGML kigkonsult.se iCalcreator 2.30.10//
CALSCALE:GREGORIAN
METHOD:PUBLISH
UID:fb40b774-6a4a-4385-acac-9f9f855fdb5d
X-WR-CALDESC:
X-WR-RELCALID:eaab10ecae70ad26a418d7f59d5ab43e
X-WR-TIMEZONE:America/New_York
BEGIN:VTIMEZONE
TZID:America/New_York
BEGIN:STANDARD
TZNAME:EST
DTSTART:20211107T020000
TZOFFSETFROM:-0400
TZOFFSETTO:-0500
RDATE:20221106T020000
END:STANDARD
BEGIN:DAYLIGHT
TZNAME:EDT
DTSTART:20220313T020000
TZOFFSETFROM:-0500
TZOFFSETTO:-0400
RDATE:20230312T020000
END:DAYLIGHT
END:VTIMEZONE
BEGIN:VEVENT
UID:30693ce2-2ae7-4580-b368-a7633386b1d1
DTSTAMP:20260425T160827Z
DESCRIPTION:
DTSTART;TZID=America/New_York:20220419T123000
DTEND;TZID=America/New_York:20220419T133000
LOCATION:James Bradley Center at Infirmary Mound Park
SUMMARY:Rain Garden Workshop
END:VEVENT
END:VCALENDAR
