BEGIN:VCALENDAR
VERSION:2.0
PRODID:-//lickingswcd.com//NONSGML kigkonsult.se iCalcreator 2.30.10//
CALSCALE:GREGORIAN
METHOD:PUBLISH
UID:545b1da5-92b2-4aab-a984-ac8a808b20d6
X-WR-CALDESC:
X-WR-RELCALID:318681ef79aa9b9678f5d6046c14c7f0
X-WR-TIMEZONE:America/New_York
BEGIN:VTIMEZONE
TZID:America/New_York
BEGIN:STANDARD
TZNAME:EST
DTSTART:20211107T020000
TZOFFSETFROM:-0400
TZOFFSETTO:-0500
RDATE:20221106T020000
END:STANDARD
BEGIN:DAYLIGHT
TZNAME:EDT
DTSTART:20220313T020000
TZOFFSETFROM:-0500
TZOFFSETTO:-0400
RDATE:20230312T020000
END:DAYLIGHT
END:VTIMEZONE
BEGIN:VEVENT
UID:cc7a0c4d-bcf1-4d59-ab96-6ffee2566791
DTSTAMP:20260425T161224Z
DESCRIPTION:
DTSTART;TZID=America/New_York:20220422T000000
DTEND;TZID=America/New_York:20220422T235900
LOCATION:
SUMMARY:Tree Sale Pick Up Day
END:VEVENT
END:VCALENDAR
