BEGIN:VCALENDAR
VERSION:2.0
PRODID:-//lickingswcd.com//NONSGML kigkonsult.se iCalcreator 2.30.10//
CALSCALE:GREGORIAN
METHOD:PUBLISH
UID:f63d1ac9-b3b6-4460-9684-f4b682a6a7d9
X-WR-CALDESC:Join us for a day of learning at our very own land lab. Explor
 e our wetland and woodlot\, learn about rain gardens and rain barrels\, pu
 rchase tree seedlings & other conservation supplies\, make a craft\, and m
 ore!\n\nThe OSUE Licking County Master Gardener Volunteers will be offerin
 g tours of their beautiful demonstration garden and discussing the safe us
 e of pesticides and understanding soils & fertilizers. Don't miss out!
X-WR-RELCALID:b648a5f329a461c95d12635271a99c40
X-WR-TIMEZONE:America/New_York
BEGIN:VTIMEZONE
TZID:America/New_York
BEGIN:STANDARD
TZNAME:EST
DTSTART:20211107T020000
TZOFFSETFROM:-0400
TZOFFSETTO:-0500
RDATE:20221106T020000
END:STANDARD
BEGIN:DAYLIGHT
TZNAME:EDT
DTSTART:20220313T020000
TZOFFSETFROM:-0500
TZOFFSETTO:-0400
RDATE:20230312T020000
END:DAYLIGHT
END:VTIMEZONE
BEGIN:VEVENT
UID:bc1a50b2-7025-41fd-801c-bdecbabe1333
DTSTAMP:20260425T161007Z
DESCRIPTION:Join us for a day of learning at our very own land lab. Explore
  our wetland and woodlot\, learn about rain gardens and rain barrels\, pur
 chase tree seedlings & other conservation supplies\, make a craft\, and mo
 re!\n\nThe OSUE Licking County Master Gardener Volunteers will be offering
  tours of their beautiful demonstration garden and discussing the safe use
  of pesticides and understanding soils & fertilizers. Don't miss out!
DTSTART;TZID=America/New_York:20220423T100000
DTEND;TZID=America/New_York:20220423T130000
LOCATION:771 E Main Street\, Newark OH 43055
SUMMARY:Backyard Conservation Day
END:VEVENT
END:VCALENDAR
