BEGIN:VCALENDAR
VERSION:2.0
PRODID:-//lickingswcd.com//NONSGML kigkonsult.se iCalcreator 2.30.10//
CALSCALE:GREGORIAN
METHOD:PUBLISH
UID:74bce182-7a92-4727-bcca-756cd516a51e
X-WR-CALDESC:
X-WR-RELCALID:a049f217d287cee9b7809b217eac1429
X-WR-TIMEZONE:America/New_York
BEGIN:VTIMEZONE
TZID:America/New_York
BEGIN:STANDARD
TZNAME:EST
DTSTART:20211107T020000
TZOFFSETFROM:-0400
TZOFFSETTO:-0500
RDATE:20221106T020000
END:STANDARD
BEGIN:DAYLIGHT
TZNAME:EDT
DTSTART:20220313T020000
TZOFFSETFROM:-0500
TZOFFSETTO:-0400
RDATE:20230312T020000
END:DAYLIGHT
END:VTIMEZONE
BEGIN:VEVENT
UID:856ae71d-4f0d-46db-85f8-8393cde66f5f
DTSTAMP:20260425T161045Z
DESCRIPTION:
DTSTART;TZID=America/New_York:20220427T000000
DTEND;TZID=America/New_York:20220427T235900
LOCATION:Caldwell Lake in Noble County
SUMMARY:Area III Envirothon
END:VEVENT
END:VCALENDAR
