BEGIN:VCALENDAR
VERSION:2.0
PRODID:-//lickingswcd.com//NONSGML kigkonsult.se iCalcreator 2.30.10//
CALSCALE:GREGORIAN
METHOD:PUBLISH
UID:52055e21-3bc8-4fa2-9bb0-04cec5fa3003
X-WR-CALDESC:
X-WR-RELCALID:868a961830401a0271d2a89c2586009e
X-WR-TIMEZONE:America/New_York
BEGIN:VTIMEZONE
TZID:America/New_York
BEGIN:STANDARD
TZNAME:EST
DTSTART:20251102T020000
TZOFFSETFROM:-0400
TZOFFSETTO:-0500
RDATE:20261101T020000
END:STANDARD
BEGIN:DAYLIGHT
TZNAME:EDT
DTSTART:20260308T020000
TZOFFSETFROM:-0500
TZOFFSETTO:-0400
RDATE:20270314T020000
END:DAYLIGHT
END:VTIMEZONE
BEGIN:VEVENT
UID:ef70fd94-995d-40ab-8eb5-6aeb3dcb55c4
DTSTAMP:20260423T104812Z
DESCRIPTION:
DTSTART;TZID=America/New_York:20260410T060000
DTEND;TZID=America/New_York:20260410T060001
LOCATION:771 E Main St\, Newark\, OH 43055 US
SUMMARY:Tree Sale Order Pickup
END:VEVENT
END:VCALENDAR
