BEGIN:VCALENDAR
VERSION:2.0
PRODID:-//lickingswcd.com//NONSGML kigkonsult.se iCalcreator 2.30.10//
CALSCALE:GREGORIAN
METHOD:PUBLISH
UID:f8ce5567-9115-4082-822f-8ec9271e980d
X-WR-CALDESC:
X-WR-RELCALID:8337029b0e9388a0147a864f18c9818c
X-WR-TIMEZONE:America/New_York
BEGIN:VTIMEZONE
TZID:America/New_York
BEGIN:STANDARD
TZNAME:EST
DTSTART:20251102T020000
TZOFFSETFROM:-0400
TZOFFSETTO:-0500
RDATE:20261101T020000
END:STANDARD
BEGIN:DAYLIGHT
TZNAME:EDT
DTSTART:20260308T020000
TZOFFSETFROM:-0500
TZOFFSETTO:-0400
RDATE:20270314T020000
END:DAYLIGHT
END:VTIMEZONE
BEGIN:VEVENT
UID:ffa51613-ed5c-41cc-88fe-018e48c42f8a
DTSTAMP:20260423T091528Z
DESCRIPTION:
DTSTART;TZID=America/New_York:20260422T060000
DTEND;TZID=America/New_York:20260422T060001
LOCATION:
SUMMARY:Earth Day
END:VEVENT
END:VCALENDAR
