BEGIN:VCALENDAR
VERSION:2.0
PRODID:-//lickingswcd.com//NONSGML kigkonsult.se iCalcreator 2.30.10//
CALSCALE:GREGORIAN
METHOD:PUBLISH
UID:5f82fd2f-4e63-4cba-9a2e-91144d57e8c5
X-WR-CALDESC:
X-WR-RELCALID:0766a5d6f1d089555823867427410ad8
X-WR-TIMEZONE:America/New_York
BEGIN:VTIMEZONE
TZID:America/New_York
BEGIN:STANDARD
TZNAME:EST
DTSTART:20251102T020000
TZOFFSETFROM:-0400
TZOFFSETTO:-0500
RDATE:20261101T020000
END:STANDARD
BEGIN:DAYLIGHT
TZNAME:EDT
DTSTART:20260308T020000
TZOFFSETFROM:-0500
TZOFFSETTO:-0400
RDATE:20270314T020000
END:DAYLIGHT
END:VTIMEZONE
BEGIN:VEVENT
UID:47675c16-5a53-44ca-ae3f-1ab9e7036aa5
DTSTAMP:20260423T101213Z
DESCRIPTION:
DTSTART;TZID=America/New_York:20260418T060000
DTEND;TZID=America/New_York:20260426T060001
LOCATION:
SUMMARY:National Park Week
END:VEVENT
END:VCALENDAR
