BEGIN:VCALENDAR
VERSION:2.0
PRODID:-//lickingswcd.com//NONSGML kigkonsult.se iCalcreator 2.30.10//
CALSCALE:GREGORIAN
METHOD:PUBLISH
UID:45bf1b1e-7958-4a42-83e8-5eaa9f9d5fd8
X-WR-CALDESC:Join Licking Soil & Water for a Rain Barrel Workshop! You'll l
 earn how to build a rain barrel\, get hands-on instruction\, and walk away
  with a fully plumbed rain barrel. The regular price for this type of rain
  barrel is $65\, but the workshop cost is only $50\, plus you gain knowled
 ge on the environmental benefits of rain barrels!\n\nSigning up online wil
 l include a $2 convenience fee\, to cover the PayPal fees.  If you would p
 refer to order with cash or check\, you must register in person at the Lic
 king Soil & Water office.
X-WR-RELCALID:4dfe545724546c4a975ba54d7b700e84
X-WR-TIMEZONE:America/New_York
BEGIN:VTIMEZONE
TZID:America/New_York
BEGIN:STANDARD
TZNAME:EST
DTSTART:20251102T020000
TZOFFSETFROM:-0400
TZOFFSETTO:-0500
RDATE:20261101T020000
RDATE:20271107T020000
END:STANDARD
BEGIN:DAYLIGHT
TZNAME:EDT
DTSTART:20260308T020000
TZOFFSETFROM:-0500
TZOFFSETTO:-0400
RDATE:20270314T020000
END:DAYLIGHT
END:VTIMEZONE
BEGIN:VEVENT
UID:02a413ea-c5d2-4380-93a3-3103d50aa36a
DTSTAMP:20260421T082043Z
DESCRIPTION:Join Licking Soil & Water for a Rain Barrel Workshop! You'll le
 arn how to build a rain barrel\, get hands-on instruction\, and walk away 
 with a fully plumbed rain barrel. The regular price for this type of rain 
 barrel is $65\, but the workshop cost is only $50\, plus you gain knowledg
 e on the environmental benefits of rain barrels!\n\nSigning up online will
  include a $2 convenience fee\, to cover the PayPal fees.  If you would pr
 efer to order with cash or check\, you must register in person at the Lick
 ing Soil & Water office.
DTSTART;TZID=America/New_York:20260509T130000
DTEND;TZID=America/New_York:20260509T150000
LOCATION:771 E Main St\, Newark\, OH 43055 US
SUMMARY:Rain Barrel Workshop - Backyard Conservation Day
END:VEVENT
END:VCALENDAR
